BEGIN:VCALENDAR
VERSION:2.0
PRODID:-//Friedrich-Ebert-Grundschule - ECPv6.15.20//NONSGML v1.0//EN
CALSCALE:GREGORIAN
METHOD:PUBLISH
X-WR-CALNAME:Friedrich-Ebert-Grundschule
X-ORIGINAL-URL:https://www.friedrich-ebert-grundschule.eu
X-WR-CALDESC:Veranstaltungen für Friedrich-Ebert-Grundschule
REFRESH-INTERVAL;VALUE=DURATION:PT1H
X-Robots-Tag:noindex
X-PUBLISHED-TTL:PT1H
BEGIN:VTIMEZONE
TZID:Europe/Berlin
BEGIN:DAYLIGHT
TZOFFSETFROM:+0100
TZOFFSETTO:+0200
TZNAME:CEST
DTSTART:20220327T010000
END:DAYLIGHT
BEGIN:STANDARD
TZOFFSETFROM:+0200
TZOFFSETTO:+0100
TZNAME:CET
DTSTART:20221030T010000
END:STANDARD
BEGIN:DAYLIGHT
TZOFFSETFROM:+0100
TZOFFSETTO:+0200
TZNAME:CEST
DTSTART:20230326T010000
END:DAYLIGHT
BEGIN:STANDARD
TZOFFSETFROM:+0200
TZOFFSETTO:+0100
TZNAME:CET
DTSTART:20231029T010000
END:STANDARD
BEGIN:DAYLIGHT
TZOFFSETFROM:+0100
TZOFFSETTO:+0200
TZNAME:CEST
DTSTART:20240331T010000
END:DAYLIGHT
BEGIN:STANDARD
TZOFFSETFROM:+0200
TZOFFSETTO:+0100
TZNAME:CET
DTSTART:20241027T010000
END:STANDARD
BEGIN:DAYLIGHT
TZOFFSETFROM:+0100
TZOFFSETTO:+0200
TZNAME:CEST
DTSTART:20250330T010000
END:DAYLIGHT
BEGIN:STANDARD
TZOFFSETFROM:+0200
TZOFFSETTO:+0100
TZNAME:CET
DTSTART:20251026T010000
END:STANDARD
END:VTIMEZONE
BEGIN:VEVENT
DTSTART;VALUE=DATE:20231201
DTEND;VALUE=DATE:20231202
DTSTAMP:20260422T210252
CREATED:20230913T115914Z
LAST-MODIFIED:20230913T115914Z
UID:2372-1701388800-1701475199@www.friedrich-ebert-grundschule.eu
SUMMARY:Weihnachts-Aktionstag
DESCRIPTION:Bastel- und Aktionstag in der Schule
URL:https://www.friedrich-ebert-grundschule.eu/termine/weihnachts-aktionstag-2/
END:VEVENT
BEGIN:VEVENT
DTSTART;VALUE=DATE:20231221
DTEND;VALUE=DATE:20231222
DTSTAMP:20260422T210252
CREATED:20230913T115954Z
LAST-MODIFIED:20230913T115954Z
UID:2375-1703116800-1703203199@www.friedrich-ebert-grundschule.eu
SUMMARY:Gottesdienst Klassen 1+2
DESCRIPTION:
URL:https://www.friedrich-ebert-grundschule.eu/termine/gottesdienst-klassen-12/
END:VEVENT
BEGIN:VEVENT
DTSTART;VALUE=DATE:20231225
DTEND;VALUE=DATE:20240106
DTSTAMP:20260422T210252
CREATED:20230503T072236Z
LAST-MODIFIED:20230503T072236Z
UID:2262-1703462400-1704499199@www.friedrich-ebert-grundschule.eu
SUMMARY:Weihnachtsferien 2023
DESCRIPTION:
URL:https://www.friedrich-ebert-grundschule.eu/termine/weihnachtsferien-2023/
END:VEVENT
END:VCALENDAR