BEGIN:VCALENDAR
VERSION:2.0
PRODID:-//Friedrich-Ebert-Grundschule - ECPv6.15.20//NONSGML v1.0//EN
CALSCALE:GREGORIAN
METHOD:PUBLISH
X-WR-CALNAME:Friedrich-Ebert-Grundschule
X-ORIGINAL-URL:https://www.friedrich-ebert-grundschule.eu
X-WR-CALDESC:Veranstaltungen für Friedrich-Ebert-Grundschule
REFRESH-INTERVAL;VALUE=DURATION:PT1H
X-Robots-Tag:noindex
X-PUBLISHED-TTL:PT1H
BEGIN:VTIMEZONE
TZID:Europe/Berlin
BEGIN:DAYLIGHT
TZOFFSETFROM:+0100
TZOFFSETTO:+0200
TZNAME:CEST
DTSTART:20220327T010000
END:DAYLIGHT
BEGIN:STANDARD
TZOFFSETFROM:+0200
TZOFFSETTO:+0100
TZNAME:CET
DTSTART:20221030T010000
END:STANDARD
BEGIN:DAYLIGHT
TZOFFSETFROM:+0100
TZOFFSETTO:+0200
TZNAME:CEST
DTSTART:20230326T010000
END:DAYLIGHT
BEGIN:STANDARD
TZOFFSETFROM:+0200
TZOFFSETTO:+0100
TZNAME:CET
DTSTART:20231029T010000
END:STANDARD
BEGIN:DAYLIGHT
TZOFFSETFROM:+0100
TZOFFSETTO:+0200
TZNAME:CEST
DTSTART:20240331T010000
END:DAYLIGHT
BEGIN:STANDARD
TZOFFSETFROM:+0200
TZOFFSETTO:+0100
TZNAME:CET
DTSTART:20241027T010000
END:STANDARD
END:VTIMEZONE
BEGIN:VEVENT
DTSTART;VALUE=DATE:20231002
DTEND;VALUE=DATE:20231003
DTSTAMP:20260422T235906
CREATED:20230503T071723Z
LAST-MODIFIED:20230503T071723Z
UID:2252-1696204800-1696291199@www.friedrich-ebert-grundschule.eu
SUMMARY:Beweglicher Ferientag
DESCRIPTION:
URL:https://www.friedrich-ebert-grundschule.eu/termine/beweglicher-ferientag-11/
END:VEVENT
BEGIN:VEVENT
DTSTART;VALUE=DATE:20231003
DTEND;VALUE=DATE:20231004
DTSTAMP:20260422T235906
CREATED:20230503T071822Z
LAST-MODIFIED:20230503T071822Z
UID:2254-1696291200-1696377599@www.friedrich-ebert-grundschule.eu
SUMMARY:Tag der Deutschen Einheit
DESCRIPTION:
URL:https://www.friedrich-ebert-grundschule.eu/termine/tag-der-deutschen-einheit/
END:VEVENT
BEGIN:VEVENT
DTSTART;VALUE=DATE:20231011
DTEND;VALUE=DATE:20231014
DTSTAMP:20260422T235906
CREATED:20230914T082107Z
LAST-MODIFIED:20230914T082107Z
UID:2408-1696982400-1697241599@www.friedrich-ebert-grundschule.eu
SUMMARY:Schulfotograf
DESCRIPTION:
URL:https://www.friedrich-ebert-grundschule.eu/termine/schulfotograf-3/
END:VEVENT
BEGIN:VEVENT
DTSTART;VALUE=DATE:20231016
DTEND;VALUE=DATE:20231028
DTSTAMP:20260422T235906
CREATED:20230503T071908Z
LAST-MODIFIED:20230503T071908Z
UID:2257-1697414400-1698451199@www.friedrich-ebert-grundschule.eu
SUMMARY:Herbstferien 2023
DESCRIPTION:
URL:https://www.friedrich-ebert-grundschule.eu/termine/herbstferien-2023/
END:VEVENT
END:VCALENDAR