BEGIN:VCALENDAR
VERSION:2.0
PRODID:-//Friedrich-Ebert-Grundschule - ECPv6.15.20//NONSGML v1.0//EN
CALSCALE:GREGORIAN
METHOD:PUBLISH
X-ORIGINAL-URL:https://www.friedrich-ebert-grundschule.eu
X-WR-CALDESC:Veranstaltungen für Friedrich-Ebert-Grundschule
REFRESH-INTERVAL;VALUE=DURATION:PT1H
X-Robots-Tag:noindex
X-PUBLISHED-TTL:PT1H
BEGIN:VTIMEZONE
TZID:Europe/Berlin
BEGIN:DAYLIGHT
TZOFFSETFROM:+0100
TZOFFSETTO:+0200
TZNAME:CEST
DTSTART:20220327T010000
END:DAYLIGHT
BEGIN:STANDARD
TZOFFSETFROM:+0200
TZOFFSETTO:+0100
TZNAME:CET
DTSTART:20221030T010000
END:STANDARD
BEGIN:DAYLIGHT
TZOFFSETFROM:+0100
TZOFFSETTO:+0200
TZNAME:CEST
DTSTART:20230326T010000
END:DAYLIGHT
BEGIN:STANDARD
TZOFFSETFROM:+0200
TZOFFSETTO:+0100
TZNAME:CET
DTSTART:20231029T010000
END:STANDARD
BEGIN:DAYLIGHT
TZOFFSETFROM:+0100
TZOFFSETTO:+0200
TZNAME:CEST
DTSTART:20240331T010000
END:DAYLIGHT
BEGIN:STANDARD
TZOFFSETFROM:+0200
TZOFFSETTO:+0100
TZNAME:CET
DTSTART:20241027T010000
END:STANDARD
END:VTIMEZONE
BEGIN:VEVENT
DTSTART;VALUE=DATE:20230530
DTEND;VALUE=DATE:20230608
DTSTAMP:20260423T082233
CREATED:20221117T100443Z
LAST-MODIFIED:20221117T100443Z
UID:1658-1685404800-1686182399@www.friedrich-ebert-grundschule.eu
SUMMARY:Pfingstferien 2023
DESCRIPTION:
URL:https://www.friedrich-ebert-grundschule.eu/termine/pfingstferien-2023/
END:VEVENT
BEGIN:VEVENT
DTSTART;VALUE=DATE:20230608
DTEND;VALUE=DATE:20230609
DTSTAMP:20260423T082233
CREATED:20230118T120252Z
LAST-MODIFIED:20230118T120252Z
UID:2086-1686182400-1686268799@www.friedrich-ebert-grundschule.eu
SUMMARY:Fronleichnam
DESCRIPTION:
URL:https://www.friedrich-ebert-grundschule.eu/termine/fronleichnam-2/
END:VEVENT
BEGIN:VEVENT
DTSTART;VALUE=DATE:20230609
DTEND;VALUE=DATE:20230610
DTSTAMP:20260423T082233
CREATED:20221117T100521Z
LAST-MODIFIED:20221117T100521Z
UID:1660-1686268800-1686355199@www.friedrich-ebert-grundschule.eu
SUMMARY:Beweglicher Ferientag
DESCRIPTION:
URL:https://www.friedrich-ebert-grundschule.eu/termine/beweglicher-ferientag-10/
END:VEVENT
BEGIN:VEVENT
DTSTART;VALUE=DATE:20230619
DTEND;VALUE=DATE:20230620
DTSTAMP:20260423T082233
CREATED:20221117T100557Z
LAST-MODIFIED:20221117T100557Z
UID:1662-1687132800-1687219199@www.friedrich-ebert-grundschule.eu
SUMMARY:Ausgleichstag
DESCRIPTION:
URL:https://www.friedrich-ebert-grundschule.eu/termine/ausgleichstag-2/
END:VEVENT
BEGIN:VEVENT
DTSTART;VALUE=DATE:20230623
DTEND;VALUE=DATE:20230624
DTSTAMP:20260423T082233
CREATED:20221117T100638Z
LAST-MODIFIED:20221117T100638Z
UID:1664-1687478400-1687564799@www.friedrich-ebert-grundschule.eu
SUMMARY:Sportfest
DESCRIPTION:
URL:https://www.friedrich-ebert-grundschule.eu/termine/sportfest/
END:VEVENT
END:VCALENDAR